BEGIN:VCALENDAR
PRODID:-//BiancaBrownRealty//Website//ENG
VERSION:2.0
CALSCALE:GREGORIAN
METHD:PUBLISH
BEGIN:VEVENT
ORGANIZER:BiancaBrownRealty
DTSTART:20260424T141500
LOCATION:380 Cut Hill Road, Cobbitty
TRANSP:OPAQUE
UID:0.22307700 1777040672
DTSTAMP:20260424T142432Z
SUMMARY:Gilbert + Younan - Auction
DESCRIPTION;ENCODING=QUOTED-PRINTABLE: Auction Time for Cobbitty property
BEGIN:VALARM
TRIGGER:PT15M
ACTION:DISPLAY
DESCRIPTION:BiancaBrownRealty Website
END:VALARM
END:VEVENT
END:VCALENDAR
