BEGIN:VCALENDAR
PRODID:-//BiancaBrownRealty//Website//ENG
VERSION:2.0
CALSCALE:GREGORIAN
METHD:PUBLISH
BEGIN:VEVENT
ORGANIZER:BiancaBrownRealty
DTSTART:20260424T094500
LOCATION:30 Phyllis Street, Minto
TRANSP:OPAQUE
UID:0.60999600 1777039744
DTSTAMP:20260424T140904Z
SUMMARY:Gilbert + Younan - Auction
DESCRIPTION;ENCODING=QUOTED-PRINTABLE: Auction Time for Minto property
BEGIN:VALARM
TRIGGER:PT15M
ACTION:DISPLAY
DESCRIPTION:BiancaBrownRealty Website
END:VALARM
END:VEVENT
END:VCALENDAR
